BEGIN:VCALENDAR
VERSION:2.0
PRODID:-//Tukios.com/
BEGIN:VEVENT
UID:021eab8e-dc8a-49c7-8002-5518396f7e43@www.tomonfuneralhome.com
DTSTAMP:20260421T015426Z
DTSTART:20260501T170000Z
DTEND:20260501T180000Z
SUMMARY:Mass
DESCRIPTION:
URL:https://www.tomonfuneralhome.com/obituaries/karen-williams
LOCATION:Holy Redeemer Church 415 4th St.  Ellwood City PA 16117
GEO:40.8567008;-80.2850768
END:VEVENT
END:VCALENDAR