BEGIN:VCALENDAR
VERSION:2.0
PRODID:-//Tukios.com/
BEGIN:VEVENT
UID:0da7b8c1-90e1-4831-967d-20593dc97bc3@www.tomonfuneralhome.com
DTSTAMP:20260421T015436Z
DTSTART:20260501T140000Z
DTEND:20260501T163000Z
SUMMARY:Visitation
DESCRIPTION:
URL:https://www.tomonfuneralhome.com/obituaries/karen-williams
LOCATION:Joseph A. Tomon, Jr. Funeral Home & Crematory 97 Grim Avenue  
	Ellwood City PA 16117
GEO:40.857403;-80.263141
END:VEVENT
END:VCALENDAR